BEGIN:VCALENDAR
VERSION:2.0
PRODID:-//ChurchDev//Events//EN
CALSCALE:GREGORIAN
METHOD:PUBLISH
BEGIN:VEVENT
UID:5044-20260418@www.cbchurchlancasterpa.com
SUMMARY:Men&#8217\;s Fellowship
DTSTART:20260418T110000Z
DTEND:20260418T120000Z
DESCRIPTION:https://www.cbchurchlancasterpa.com/events/mens-fellowship-4/
LOCATION:529 Lauschtown Road\, Denver\, PA 17517
URL:https://www.cbchurchlancasterpa.com/events/mens-fellowship-4/
DTSTAMP:20260419T222628Z
END:VEVENT
END:VCALENDAR
