BEGIN:VCALENDAR
VERSION:2.0
PRODID:-//ChurchDev//Events//EN
CALSCALE:GREGORIAN
METHOD:PUBLISH
BEGIN:VEVENT
UID:5158-20260429@www.cbchurchlancasterpa.com
SUMMARY:Quarterly Update Meeting
DTSTART:20260429T230000Z
DTEND:20260430T000000Z
DESCRIPTION:https://www.cbchurchlancasterpa.com/events/quarterly-update-meeting/
URL:https://www.cbchurchlancasterpa.com/events/quarterly-update-meeting/
DTSTAMP:20260419T222626Z
END:VEVENT
END:VCALENDAR
