BEGIN:VCALENDAR
VERSION:2.0
PRODID:-//ChurchDev//Events//EN
CALSCALE:GREGORIAN
METHOD:PUBLISH
BEGIN:VEVENT
UID:5159-20260419@www.cbchurchlancasterpa.com
SUMMARY:Sunday School Teacher Prayer Time
DTSTART:20260419T213000Z
DTEND:20260419T223000Z
DESCRIPTION:https://www.cbchurchlancasterpa.com/events/sunday-school-teacher-prayer-time/
URL:https://www.cbchurchlancasterpa.com/events/sunday-school-teacher-prayer-time/
DTSTAMP:20260419T222626Z
END:VEVENT
END:VCALENDAR
