BEGIN:VCALENDAR
VERSION:2.0
PRODID:-//ChurchDev//Events//EN
CALSCALE:GREGORIAN
METHOD:PUBLISH
BEGIN:VEVENT
UID:5160-20260426@www.cbchurchlancasterpa.com
SUMMARY:Fellowship Food
DTSTART:20260426T233000Z
DTEND:20260427T003000Z
DESCRIPTION:https://www.cbchurchlancasterpa.com/events/fellowship-food/
LOCATION:529 Lauschtown Road\, Denver\, PA 17517
URL:https://www.cbchurchlancasterpa.com/events/fellowship-food/
DTSTAMP:20260419T222624Z
END:VEVENT
END:VCALENDAR
