BEGIN:VCALENDAR
VERSION:2.0
PRODID:-//ChurchDev//Events//EN
CALSCALE:GREGORIAN
METHOD:PUBLISH
BEGIN:VEVENT
UID:5161-20260412@www.cbchurchlancasterpa.com
SUMMARY:Jr Choir
DTSTART:20260412T210000Z
DTEND:20260412T220000Z
DESCRIPTION:https://www.cbchurchlancasterpa.com/events/jr-choir/
LOCATION:529 Lauschtown Road\, Denver\, PA 17517
URL:https://www.cbchurchlancasterpa.com/events/jr-choir/
DTSTAMP:20260419T222629Z
END:VEVENT
END:VCALENDAR
