BEGIN:VCALENDAR
VERSION:2.0
PRODID:-//ChurchDev//Events//EN
CALSCALE:GREGORIAN
METHOD:PUBLISH
BEGIN:VEVENT
UID:5162-20260426@www.cbchurchlancasterpa.com
SUMMARY:Jr Choir
DTSTART:20260426T210000Z
DTEND:20260426T220000Z
DESCRIPTION:https://www.cbchurchlancasterpa.com/events/jr-choir-2/
LOCATION:529 Lauschtown Road\, Denver\, PA 17517
URL:https://www.cbchurchlancasterpa.com/events/jr-choir-2/
DTSTAMP:20260419T222610Z
END:VEVENT
END:VCALENDAR
